BEGIN:VCALENDAR
PRODID:-//107.180.116.86//NONSGML iCalcreator 2.6//
VERSION:2.0
BEGIN:VEVENT
UID:20260421T234012CEST-51610nvU1Z@107.180.116.86
DTSTAMP:20260421T214012Z
CATEGORIES:Events
DESCRIPTION:
DTSTART:20151017T010000
DTEND:20151017T060000
LOCATION:308 West Carson Blvd\, Charlotte\, NC
SUMMARY:South End Wine Festival
END:VEVENT
END:VCALENDAR
